BEGIN:VCALENDAR
VERSION:2.0
PRODID:-//Tukios.com/
BEGIN:VEVENT
UID:b121027a-33a5-40e2-acf2-3d3b069ca15e@www.wheelermortuaries.com
DTSTAMP:20260423T234357Z
DTSTART:20260430T153000Z
DTEND:20260430T163000Z
SUMMARY:Visitation
DESCRIPTION:
URL:https://www.wheelermortuaries.com/obituaries/louis-zocchi
LOCATION: 82 W 400 N  Mapleton UT 84664
GEO:40.1343379;-111.579986
END:VEVENT
END:VCALENDAR