BEGIN:VCALENDAR
VERSION:2.0
PRODID:-//Tukios.com/
BEGIN:VEVENT
UID:5f1cac6c-bdaf-450d-aeed-0614adaa99f3@www.wheelermortuaries.com
DTSTAMP:20260423T234440Z
DTSTART:20260430T170000Z
DTEND:20260430T180000Z
SUMMARY:Funeral Service
DESCRIPTION:
URL:https://www.wheelermortuaries.com/obituaries/louis-zocchi
LOCATION: 82 W 400 N  Mapleton UT 84664
GEO:40.1343379;-111.579986
END:VEVENT
END:VCALENDAR