BEGIN:VCALENDAR
VERSION:2.0
PRODID:-//Tukios.com/
BEGIN:VEVENT
UID:757c3573-990c-4c0a-a7a2-f9161398e538@www.wheelermortuaries.com
DTSTAMP:20260423T233912Z
DTSTART:20260430T200000Z
DTEND:20260430T210000Z
SUMMARY:Interment
DESCRIPTION:
URL:https://www.wheelermortuaries.com/obituaries/louis-zocchi
LOCATION:Utah Veterans Cemetery & Memorial Park 17111 1700 West  
	Bluffdale UT 84065
GEO:40.4417469;-111.9321512
END:VEVENT
END:VCALENDAR