BEGIN:VCALENDAR
VERSION:2.0
PRODID:-//Tukios.com/
BEGIN:VEVENT
UID:4d0c9ed4-efac-4cc7-b2a0-9c52fe96bb1e@www.wheelermortuaries.com
DTSTAMP:20260425T222544Z
DTSTART:20260502T183000Z
DTEND:20260502T193000Z
SUMMARY:Viewing
DESCRIPTION:
URL:https://www.wheelermortuaries.com/obituaries/phillip-lynn
LOCATION: 55 N Main St  Springville UT 84663
GEO:40.1677906;-111.6112321
END:VEVENT
END:VCALENDAR