BEGIN:VCALENDAR
VERSION:2.0
PRODID:-//Tukios.com/
BEGIN:VEVENT
UID:a61b0176-f8fc-4651-baec-2806b54a55fd@www.wheelermortuaries.com
DTSTAMP:20260425T222059Z
DTSTART:20260502T200000Z
DTEND:20260502T210000Z
SUMMARY:Funeral Service
DESCRIPTION:
URL:https://www.wheelermortuaries.com/obituaries/phillip-lynn
LOCATION: 55 N Main St  Springville UT 84663
GEO:40.1677906;-111.6112321
END:VEVENT
END:VCALENDAR