BEGIN:VCALENDAR
VERSION:2.0
PRODID:-//Tukios.com/
BEGIN:VEVENT
UID:abe65e66-680a-454a-9923-7ff49e4deb36@www.wheelermortuaries.com
DTSTAMP:20260422T213828Z
DTSTART:20260508T210000Z
DTEND:20260508T220000Z
SUMMARY:Graveside Service
DESCRIPTION:
URL:https://www.wheelermortuaries.com/obituaries/toni-ely
LOCATION: 1997 South 400 East  Springville UT 84663
GEO:40.1409475;-111.6025073
END:VEVENT
END:VCALENDAR